BEGIN:VCALENDAR
VERSION:2.0
PRODID:-//Hermes Expo International - ECPv6.9.0//NONSGML v1.0//EN
CALSCALE:GREGORIAN
METHOD:PUBLISH
X-ORIGINAL-URL:https://hermesexpo.com
X-WR-CALDESC:Events for Hermes Expo International
REFRESH-INTERVAL;VALUE=DURATION:PT1H
X-Robots-Tag:noindex
X-PUBLISHED-TTL:PT1H
BEGIN:VTIMEZONE
TZID:UTC
BEGIN:STANDARD
TZOFFSETFROM:+0000
TZOFFSETTO:+0000
TZNAME:UTC
DTSTART:20240101T000000
END:STANDARD
END:VTIMEZONE
BEGIN:VEVENT
DTSTART;TZID=UTC:20240521T100000
DTEND;TZID=UTC:20240521T110000
DTSTAMP:20260424T231405
CREATED:20220506T212603Z
LAST-MODIFIED:20250113T100856Z
UID:495-1716285600-1716289200@hermesexpo.com
SUMMARY:Marine and Oceanic Government Workers
DESCRIPTION:Home Life Open Entryway Open Occasion of 21\n Dolor sit amet consectetur elit sed do eiusmod tempor incd idunt labore et dolore magna aliqua enim ad minim veniam quis nostrud exercitation ullamco laboris nisi ut aliquip exea commodo consequat.duis aute irure dolor in repre hen derit in voluptate velit esse cillum dolore eu fugiat nulla pariatur cepteur sint occaecat cupidatat eaque ipsa quae illo proident sunt in culpa qui officia deserunt mollit anim id est laborum perspiciatis unde omnis iste natus error sit voluptatem accusantium dolore laudant rem aperiam eaque ipsa quae ab illo inventore veritatis quasi architecto. \n Dolor sit amet consectetur elit sed do eiusmod tempor incd idunt labore et dolore magna aliqua enim ad minim veniam quis nostrud exercitation ullamco laboris nisi ut aliquip exea commodo consequat.duis aute irure dolor in reprehen derit in voluptate velit esse cillum dolore eu fugiat nulla pariatur cepteur sint occaecat cupidatat. \n\n\n\n\n\nEvolution of user Interface\n\nMultiple Announcements during the event.\nLogo & company details on the Kolkata.\nDedicated blog post thanking each of our Gold.\nAcknowledgment and thanks in opening.\nMetting for Globle worming for weather.\n\n\n\nDolor sit amet consectetur elit sed do eiusmod tempor incd idunt labore et dolore magna aliqua enim ad minim veniam quis nostrud exercitation ullamco laboris nisi ut aliquip exea commodo consequat.duis aute irure dolor in repre hen derit in voluptate velit esse cillum dolore eu fugiat nulla pariatur cepteur sint occaecat cupidatat eaque ipsa quae illo proident sunt in culpa qui officia deserunt mollit anim id est laborum perspiciatis unde omnis iste natus error sit voluptatem accusantium dolore laudant rem aperiam eaque ipsa quae ab illo inventore veritatis quasi architecto. \nDolor sit amet consectetur elit sed do eiusmod tempor incd idunt labore et dolore magna aliqua enim ad minim veniam quis nostrud exercitation ullamco laboris nisi ut aliquip exea commodo consequat.duis aute irure dolor in reprehen derit in voluptate velit esse cillum dolore eu fugiat nulla pariatur cepteur sint occaecat cupidatat.
URL:https://hermesexpo.com/event/marine-and-oceanic-government-workers/
CATEGORIES:Our Events
ATTACH;FMTTYPE=image/jpeg:https://hermesexpo.com/wp-content/uploads/2022/04/blog-2.jpg
END:VEVENT
END:VCALENDAR